BEGIN:VCALENDAR
VERSION:2.0
PRODID:-//Nachrichtenwerkstatt.com - ECPv6.15.17.1//NONSGML v1.0//EN
CALSCALE:GREGORIAN
METHOD:PUBLISH
X-ORIGINAL-URL:https://www.nachrichtenwerkstatt.com
X-WR-CALDESC:Veranstaltungen für Nachrichtenwerkstatt.com
REFRESH-INTERVAL;VALUE=DURATION:PT1H
X-Robots-Tag:noindex
X-PUBLISHED-TTL:PT1H
BEGIN:VTIMEZONE
TZID:Europe/Berlin
BEGIN:DAYLIGHT
TZOFFSETFROM:+0100
TZOFFSETTO:+0200
TZNAME:CEST
DTSTART:20250330T010000
END:DAYLIGHT
BEGIN:STANDARD
TZOFFSETFROM:+0200
TZOFFSETTO:+0100
TZNAME:CET
DTSTART:20251026T010000
END:STANDARD
BEGIN:DAYLIGHT
TZOFFSETFROM:+0100
TZOFFSETTO:+0200
TZNAME:CEST
DTSTART:20260329T010000
END:DAYLIGHT
BEGIN:STANDARD
TZOFFSETFROM:+0200
TZOFFSETTO:+0100
TZNAME:CET
DTSTART:20261025T010000
END:STANDARD
BEGIN:DAYLIGHT
TZOFFSETFROM:+0100
TZOFFSETTO:+0200
TZNAME:CEST
DTSTART:20270328T010000
END:DAYLIGHT
BEGIN:STANDARD
TZOFFSETFROM:+0200
TZOFFSETTO:+0100
TZNAME:CET
DTSTART:20271031T010000
END:STANDARD
END:VTIMEZONE
BEGIN:VEVENT
DTSTART;VALUE=DATE:20260319
DTEND;VALUE=DATE:20260320
DTSTAMP:20260424T210509
CREATED:20260306T095004Z
LAST-MODIFIED:20260306T095004Z
UID:10000493-1773878400-1773964799@www.nachrichtenwerkstatt.com
SUMMARY:Einen eigenen Podcast gestalten!
DESCRIPTION:Dauer: 4h \nWorkshop \nPodcasts sind in den letzten Jahren immer stärker im Kommen. Unternehmen\, Institutionen und Privatpersonen erreichen über dieses Hör-Medium Millionen von Menschen. In diesem Workshop lernen die Teilnehmenden\, was zu einem erfolgreichen Podcast gehört (Skript\, Aufnahme\, Schnitt)\, gemeinsam gehen wir die ersten Schritte zur Umsetzung eines eigenen Podcasts. \nDie Teilnahme ist kostenlos. Vorkenntnisse sind nicht erforderlich – nur Neugier und Lust! \nAnmeldung unter:  E-Mail: info@nachrichtenwerkstatt.com 
URL:https://www.nachrichtenwerkstatt.com/event/einen-eigenen-podcast-gestalten-2/
LOCATION:Lebenshilfe Borna\, Am Wilhelmschacht 1\, Borna\, Sachsen\, 04552
CATEGORIES:Borna,Erwachsene,Format,Junge Erwachsene,Leipziger Land (WK12),Ort,Wirkungskreis,Workshop,Zielgruppe
ATTACH;FMTTYPE=image/jpeg:https://www.nachrichtenwerkstatt.com/wp-content/uploads/2025/03/Podcast_3.jpg
END:VEVENT
BEGIN:VEVENT
DTSTART;TZID=Europe/Berlin:20260324T140000
DTEND;TZID=Europe/Berlin:20260324T160000
DTSTAMP:20260424T210509
CREATED:20260306T093116Z
LAST-MODIFIED:20260318T074049Z
UID:10000490-1774360800-1774368000@www.nachrichtenwerkstatt.com
SUMMARY:Datenschutz in digitaler Gegenwart
DESCRIPTION:Ein Großteil unseres Lebens findet mittlerweile online statt – beim Einkaufen\, in sozialen Netzwerken oder beim Austausch von Nachrichten. Dabei geben wir oft mehr persönliche Informationen preis\, als uns bewusst ist. \nDatenschutz betrifft uns alle – besonders im digitalen Alltag.\nIn diesem Workshop wollen wir deshalb gemeinsam erarbeiten\, was Datenschutz konkret bedeutet: \n\nWelche Gefahren bestehen für unsere Informationen?\nWelche Daten geben wir wo an?\nUnd wie können wir unsere Privatsphäre besser schützen?\n\nAußerdem schauen wir darauf\, welche Verantwortung jede*r von uns im Umgang mit den Daten anderer trägt: Was ist erlaubt\, was verboten? Welche gesetzlichen Vorgaben gelten? Und wie lässt sich Datenschutz bewusst in den eigenen Alltag integrieren? \nKommen Sie vorbei und lassen Sie uns über das rechtliche Vorgehen im Internet\, sowie den richtigen Umgang mit denen eigenen und fremden Daten sprechen! \n\n\n� Wann? 24.03. | 14:00 – 16:00 Uhr\n📍 Wo? Begegnungszentrum Markkleeberg \n\nWir freuen uns auf Ihre Teilnahme und einen spannenden Austausch!\n\nBei Rückfragen melden Sie sich gern unter: info@nachrichtenwerkstatt.com 
URL:https://www.nachrichtenwerkstatt.com/event/datenschutz-in-digitaler-gegenwart-3/
LOCATION:Begegnungszentrum Markkleeberg – Leipziger Land WK 12\, Hauptstraße 315\, Markkleeberg\, 04416
CATEGORIES:Erwachsene,Format,Leipziger Land (WK12),Markkleeberg,Ort,Senioren,Wirkungskreis,Workshop,Zielgruppe
ATTACH;FMTTYPE=image/jpeg:https://www.nachrichtenwerkstatt.com/wp-content/uploads/2025/03/Datenschutz.jpg
END:VEVENT
BEGIN:VEVENT
DTSTART;TZID=Europe/Berlin:20260326T100000
DTEND;TZID=Europe/Berlin:20260326T120000
DTSTAMP:20260424T210509
CREATED:20260306T093630Z
LAST-MODIFIED:20260306T093630Z
UID:10000491-1774519200-1774526400@www.nachrichtenwerkstatt.com
SUMMARY:Datenschutz in digitaler Gegenwart
DESCRIPTION:Ein Großteil unseres Lebens findet mittlerweile online statt – beim Einkaufen\, in sozialen Netzwerken oder beim Austausch von Nachrichten. Dabei geben wir oft mehr persönliche Informationen preis\, als uns bewusst ist. \nDatenschutz betrifft uns alle – besonders im digitalen Alltag.\nIn diesem Workshop wollen wir deshalb gemeinsam erarbeiten\, was Datenschutz konkret bedeutet: \n\nWelche Gefahren bestehen für unsere Informationen?\nWelche Daten geben wir wo an?\nUnd wie können wir unsere Daten besser schützen?\n\nAußerdem schauen wir darauf\, welche Verantwortung jede*r von uns im Umgang mit den Daten anderer trägt: Was ist erlaubt\, was verboten? Welche gesetzlichen Vorgaben gelten? Und wie lässt sich Datenschutz bewusst in den eigenen Alltag integrieren? \nKommen Sie vorbei und lassen Sie uns über das rechtliche Vorgehen im Internet\, sowie den richtigen Umgang mit denen eigenen und fremden Daten sprechen! \n\n\n� Wann? 26.03. | 10:00 – 12:00 Uhr\n📍 Wo? Stadtbibliothek Geithain | Leipziger Str. 17 | 04643 Geithain \n\nWir freuen uns auf Ihre Teilnahme und einen spannenden Austausch!\n \nAnmeldungen über: \n\nTel.: 034341- 43168  oder E-Mail: bibo-geithain@t-online.de
URL:https://www.nachrichtenwerkstatt.com/event/datenschutz-in-digitaler-gegenwart-4/
LOCATION:Stadtbibliothek Geithain\, Leipziger Str. 17\, Geithain\, 04643
CATEGORIES:Erwachsene,Format,Geithain,Leipziger Land (WK12),Senioren,Wirkungskreis,Workshop,Zielgruppe
ATTACH;FMTTYPE=image/jpeg:https://www.nachrichtenwerkstatt.com/wp-content/uploads/2025/03/Datenschutz.jpg
END:VEVENT
BEGIN:VEVENT
DTSTART;TZID=Europe/Berlin:20260326T160000
DTEND;TZID=Europe/Berlin:20260326T180000
DTSTAMP:20260424T210509
CREATED:20260306T092737Z
LAST-MODIFIED:20260306T092737Z
UID:10000489-1774540800-1774548000@www.nachrichtenwerkstatt.com
SUMMARY:Smartphone Selbsthilfewerkstatt
DESCRIPTION:Der Workshop bietet einen praxisnahen Einstieg in moderne Smartphones. Schon wenige Einstellungen können die Nutzung deutlich erleichtern: vom Start- und\nSperrbildschirm über größere Tasten und lesbare Texte bis hin zu Notruffunktionen inkl. SOS-Ortung. \nTeilnehmende bringen ihre eigenen Geräte mit\, stellen Fragen in einem geschützten Rahmen und erhalten individuelle Unterstützung. Dabei erweitern wir\nden Fokus um zentrale Themen der Gerätepflege: \n \n\nGerätewartung & Updates: Smartphones aktuell und sicher halten\nSpeicherverwaltung: Daten effizient organisieren\, Platz schaffen \nCloud-Dienste: Dateien\, Fotos und Backups sicher speichern und syncronisieren? \n\nZiel des Workshops ist es\, die vielfältigen Funktionen moderner Smartphones verständlich zu machen\, Unsicherheiten abzubauen und die Teilnehmenden zu\nbefähigen\, ihre Geräte selbstbewusst\, sicher und komfortabel zu nutzen. \nAnmeldung unter: \nvia Telefon: +49 3433/201922 oder per E-Mail: mediothek@borna.de
URL:https://www.nachrichtenwerkstatt.com/event/smartphone-selbsthilfewerkstatt-8/
LOCATION:Mediothek Borna\, Martin-Luther-Platz 9\, Borna\, 04552\, Deutschland
CATEGORIES:Borna,Format,Leipziger Land (WK12),Ort,Senioren,Wirkungskreis,Workshop,Zielgruppe
ATTACH;FMTTYPE=image/jpeg:https://www.nachrichtenwerkstatt.com/wp-content/uploads/2025/08/senioren-Smartphone.jpg
END:VEVENT
BEGIN:VEVENT
DTSTART;TZID=Europe/Berlin:20260331T100000
DTEND;TZID=Europe/Berlin:20260331T120000
DTSTAMP:20260424T210509
CREATED:20260306T094232Z
LAST-MODIFIED:20260312T074005Z
UID:10000492-1774951200-1774958400@www.nachrichtenwerkstatt.com
SUMMARY:Sicher und einfach kommunizieren im Alltag
DESCRIPTION:Ein Foto vom Enkel verschicken\, einen Termin abstimmen oder den Kaffeeklatsch im Verein planen – vieles läuft heute über Messenger. Doch wie funktioniert das eigentlich sicher und einfach? In diesem Workshop lernen Senior:innen Schritt für Schritt\, wie Sie Messenger-Dienste wie WhatsApp\, Signal oder Telegram nutzen können: Nachrichten schreiben\, Fotos verschicken\, Sprachnachrichten aufnehmen oder in Gruppen kommunizieren. Außerdem sprechen wir über Datenschutz\, Sicherheit und typische Stolperfallen – verständlich erklärt und ohne Zeitdruck. \nDie Teilnehmenden probieren alles praktisch aus – in Ihrem Tempo\, mit individueller Unterstützung. Bringen Sie dafür gerne Ihr eigenes Smartphone mit. Auf Wunsch können auch Geräte gestellt werden. \n� Wann? 31.03. | 10:00 – 12:00 Uhr\n📍 Wo? Stadtbibliothek Wurzen \nWir freuen uns auf Ihre Teilnahme und einen spannenden Austausch!\n \nAnmeldungen unter: Tel.: 03425/8560410 oder per Mail: bibliothek@wurzen.de
URL:https://www.nachrichtenwerkstatt.com/event/sicher-und-einfach-kommunizieren-im-alltag-3/
LOCATION:Stadtbibliothek Wurzen (Leipziger Land – WK 12)\, Markt 1\, Wurzen\, Sachsen\, 04808
CATEGORIES:Erwachsene,Format,Leipziger Land (WK12),Ort,Senioren,Wirkungskreis,Workshop,Wurzen,Zielgruppe
ATTACH;FMTTYPE=image/jpeg:https://www.nachrichtenwerkstatt.com/wp-content/uploads/2025/03/Smartphone-Senioren.jpg
END:VEVENT
END:VCALENDAR