BEGIN:VCALENDAR
VERSION:2.0
PRODID:-//Nachrichtenwerkstatt.com - ECPv6.15.17.1//NONSGML v1.0//EN
CALSCALE:GREGORIAN
METHOD:PUBLISH
X-WR-CALNAME:Nachrichtenwerkstatt.com
X-ORIGINAL-URL:https://www.nachrichtenwerkstatt.com
X-WR-CALDESC:Veranstaltungen für Nachrichtenwerkstatt.com
REFRESH-INTERVAL;VALUE=DURATION:PT1H
X-Robots-Tag:noindex
X-PUBLISHED-TTL:PT1H
BEGIN:VTIMEZONE
TZID:Europe/Berlin
BEGIN:DAYLIGHT
TZOFFSETFROM:+0100
TZOFFSETTO:+0200
TZNAME:CEST
DTSTART:20250330T010000
END:DAYLIGHT
BEGIN:STANDARD
TZOFFSETFROM:+0200
TZOFFSETTO:+0100
TZNAME:CET
DTSTART:20251026T010000
END:STANDARD
BEGIN:DAYLIGHT
TZOFFSETFROM:+0100
TZOFFSETTO:+0200
TZNAME:CEST
DTSTART:20260329T010000
END:DAYLIGHT
BEGIN:STANDARD
TZOFFSETFROM:+0200
TZOFFSETTO:+0100
TZNAME:CET
DTSTART:20261025T010000
END:STANDARD
BEGIN:DAYLIGHT
TZOFFSETFROM:+0100
TZOFFSETTO:+0200
TZNAME:CEST
DTSTART:20270328T010000
END:DAYLIGHT
BEGIN:STANDARD
TZOFFSETFROM:+0200
TZOFFSETTO:+0100
TZNAME:CET
DTSTART:20271031T010000
END:STANDARD
END:VTIMEZONE
BEGIN:VEVENT
DTSTART;TZID=Europe/Berlin:20260318T170000
DTEND;TZID=Europe/Berlin:20260318T190000
DTSTAMP:20260424T224402
CREATED:20260306T091210Z
LAST-MODIFIED:20260317T133204Z
UID:10000486-1773853200-1773860400@www.nachrichtenwerkstatt.com
SUMMARY:Medienkompetenz in der Familie - Elternabend über einen verantwortungsbewussten Umgang mit digitalen Medien
DESCRIPTION:Smartphone\, Tablet & Co. gehören längst zum Alltag unserer Kinder und sind kaum mehr wegzudenken. Die Mediennutzung beginnt immer früher und damit auch der erste Kontakt mit digitalen Inhalten. Diese digitale Welt bietet dabei viele Herausforderungen\, aber auch viele Chancen. Wichtig ist es\, dass wir die Kinder beim Hineinwachsen in diese Medienwelt begleiten und es dabei unterstützen\, digitale Medien kompetent\, sicher und verantwortungsbewusst zu nutzen. \nDie Veranstaltung zeigt aktuelle Studien zur Mediennutzung und deren Auswirkung auf Kinder im Grundschulalter. Davon abgeleitet zeigen wir sicher Kommunikationsmittel und-wege für Kinder im Internet und geben alltagsnahe Tipps. Ziel ist es\, Eltern zu stärken und hinsichtlich ihrer eigenen Medienkompetenz zu unterstützen\, damit sie ihre Kinder sicher\, selbstbewusst und reflektiert durch die digitale Welt begleiten können. \nIm Mittelpunkt stehen unter anderem: \n\naltersgerechte Mediennutzung und klare Regeln im Familienalltag\nChancen und Herausforderungen von Social Media\, Gaming & Co.\nMedienerziehung zwischen Vertrauen\, Kontrolle und Vorbildfunktion\npraktische Tipps für Gespräche mit Kindern und Jugendlichen\n\nDer Elternabend bietet Raum für Information\, Austausch und Fragen aus der Praxis und soll Eltern dabei unterstützen\, ihren Kindern Orientierung und Sicherheit in der digitalen Welt zu geben. \n� Wann? 18.03. | 17:00 – 19:00 Uhr\n📍 Wo? Wilhelm-Ostwald-Grundschule\, Platz der Einheit 7\, 04668 Grimma \n  \nAnmeldungen für Online-Stream: r.vogel@nachrichtenwerkstatt.com 
URL:https://www.nachrichtenwerkstatt.com/event/medienkompetenz-in-der-familie-elternabend-ueber-einen-verantwortungsbewussten-umgang-mit-digitalen-medien/
LOCATION:Online
CATEGORIES:Eltern,Format,Grimma,Informationsveranstaltung,Leipziger Land (WK12),Multiplikatoren,Ort,Wirkungskreis,Zielgruppe
ATTACH;FMTTYPE=image/jpeg:https://www.nachrichtenwerkstatt.com/wp-content/uploads/2026/03/Thumbnail_Familie_Smartphone.jpg
END:VEVENT
END:VCALENDAR