BEGIN:VCALENDAR
VERSION:2.0
PRODID:-//Nachrichtenwerkstatt.com - ECPv6.15.17.1//NONSGML v1.0//EN
CALSCALE:GREGORIAN
METHOD:PUBLISH
X-ORIGINAL-URL:https://www.nachrichtenwerkstatt.com
X-WR-CALDESC:Veranstaltungen für Nachrichtenwerkstatt.com
REFRESH-INTERVAL;VALUE=DURATION:PT1H
X-Robots-Tag:noindex
X-PUBLISHED-TTL:PT1H
BEGIN:VTIMEZONE
TZID:Europe/Berlin
BEGIN:DAYLIGHT
TZOFFSETFROM:+0100
TZOFFSETTO:+0200
TZNAME:CEST
DTSTART:20250330T010000
END:DAYLIGHT
BEGIN:STANDARD
TZOFFSETFROM:+0200
TZOFFSETTO:+0100
TZNAME:CET
DTSTART:20251026T010000
END:STANDARD
BEGIN:DAYLIGHT
TZOFFSETFROM:+0100
TZOFFSETTO:+0200
TZNAME:CEST
DTSTART:20260329T010000
END:DAYLIGHT
BEGIN:STANDARD
TZOFFSETFROM:+0200
TZOFFSETTO:+0100
TZNAME:CET
DTSTART:20261025T010000
END:STANDARD
BEGIN:DAYLIGHT
TZOFFSETFROM:+0100
TZOFFSETTO:+0200
TZNAME:CEST
DTSTART:20270328T010000
END:DAYLIGHT
BEGIN:STANDARD
TZOFFSETFROM:+0200
TZOFFSETTO:+0100
TZNAME:CET
DTSTART:20271031T010000
END:STANDARD
END:VTIMEZONE
BEGIN:VEVENT
DTSTART;TZID=Europe/Berlin:20260317T093000
DTEND;TZID=Europe/Berlin:20260317T113000
DTSTAMP:20260422T172614
CREATED:20260306T085212Z
LAST-MODIFIED:20260306T085212Z
UID:10000485-1773739800-1773747000@www.nachrichtenwerkstatt.com
SUMMARY:Es gibt für alles eine App
DESCRIPTION:In diesem interaktiven Workshop lernen Teilnehmende verschiedene Apps kennen\, ihre Funktionen verstehen und sie praktisch im Alltag\neinzusetzen. Sie haben die Möglichkeit\, die Anwendungen unter Hilfestellung selbst herunterzuladen\, Einstellungen vorzunehmen und zu entdecken\, wie digitale Helfer den Alltag unterstützen können. \nWir behandeln eine breite Palette an Anwendungen\, darunter: \n \n\nOrganisations-Apps: Kalender\, Einkaufslisten\, Notizen\nVorlese-Apps: Unterstützen beim Lesen und Verstehen von Texten\nAlltags-Apps: DB Navigator\, Apothekenfinder\nSprachassistenten: Alexa\, Siri und andere smarte Helfer\n\nDer Workshop zeigt praxisnah\, wie das „Internet der Dinge“ funktioniert\, welche Möglichkeiten es bietet und wie smarte Technologien unseren Alltag vereinfachen können. \nAnmeldung unter: \nGemeindeverwaltung Thallwitz \nTel. 03425/ 99 99 110 \nE-Mail: karolin.kullmann@gemeinde-thallwitz.de \n 
URL:https://www.nachrichtenwerkstatt.com/event/es-gibt-fuer-alles-eine-app-10/
LOCATION:Gemeinde Thallwitz\, Dorfplatz 5\, Thallwitz\, 04808\, Germany
CATEGORIES:Erwachsene,Format,Leipziger Land (WK12),Ort,Senioren,Thallwitz,Wirkungskreis,Workshop,Zielgruppe
ATTACH;FMTTYPE=image/jpeg:https://www.nachrichtenwerkstatt.com/wp-content/uploads/2025/03/Apps_3.jpg
END:VEVENT
END:VCALENDAR